BEGIN:VCALENDAR
VERSION:2.0
PRODID:-//Heritage Ridge Golf Club - Hobe Sound, FL - ECPv6.15.20//NONSGML v1.0//EN
CALSCALE:GREGORIAN
METHOD:PUBLISH
X-ORIGINAL-URL:https://www.heritageridgegolf.com
X-WR-CALDESC:Events for Heritage Ridge Golf Club - Hobe Sound, FL
REFRESH-INTERVAL;VALUE=DURATION:PT1H
X-Robots-Tag:noindex
X-PUBLISHED-TTL:PT1H
BEGIN:VTIMEZONE
TZID:UTC
BEGIN:STANDARD
TZOFFSETFROM:+0000
TZOFFSETTO:+0000
TZNAME:UTC
DTSTART:20250101T000000
END:STANDARD
END:VTIMEZONE
BEGIN:VEVENT
DTSTART;TZID=UTC:20260101T000000
DTEND;TZID=UTC:20260101T235959
DTSTAMP:20260421T122519
CREATED:20231005T175327Z
LAST-MODIFIED:20250630T180705Z
UID:10000003-1767225600-1767311999@www.heritageridgegolf.com
SUMMARY:New Year's Eve
DESCRIPTION:
URL:https://www.heritageridgegolf.com/event/new-years-eve/
CATEGORIES:Holidays
END:VEVENT
BEGIN:VEVENT
DTSTART;TZID=UTC:20260102T170000
DTEND;TZID=UTC:20260102T200000
DTSTAMP:20260421T122519
CREATED:20251117T191802Z
LAST-MODIFIED:20251117T191805Z
UID:10000076-1767373200-1767384000@www.heritageridgegolf.com
SUMMARY:After Hours
DESCRIPTION:
URL:https://www.heritageridgegolf.com/event/after-hours-2/2026-01-02/
END:VEVENT
BEGIN:VEVENT
DTSTART;TZID=UTC:20260107T080000
DTEND;TZID=UTC:20260107T170000
DTSTAMP:20260421T122519
CREATED:20251117T184201Z
LAST-MODIFIED:20251117T184203Z
UID:10000008-1767772800-1767805200@www.heritageridgegolf.com
SUMMARY:Music Bingo
DESCRIPTION:
URL:https://www.heritageridgegolf.com/event/music-bingo/2026-01-07/
END:VEVENT
BEGIN:VEVENT
DTSTART;TZID=UTC:20260109T170000
DTEND;TZID=UTC:20260109T200000
DTSTAMP:20260421T122519
CREATED:20251117T191802Z
LAST-MODIFIED:20251117T191805Z
UID:10000077-1767978000-1767988800@www.heritageridgegolf.com
SUMMARY:After Hours
DESCRIPTION:
URL:https://www.heritageridgegolf.com/event/after-hours-2/2026-01-09/
END:VEVENT
BEGIN:VEVENT
DTSTART;TZID=UTC:20260116T170000
DTEND;TZID=UTC:20260116T200000
DTSTAMP:20260421T122519
CREATED:20251117T191802Z
LAST-MODIFIED:20251117T191805Z
UID:10000078-1768582800-1768593600@www.heritageridgegolf.com
SUMMARY:After Hours
DESCRIPTION:
URL:https://www.heritageridgegolf.com/event/after-hours-2/2026-01-16/
END:VEVENT
BEGIN:VEVENT
DTSTART;TZID=UTC:20260123T170000
DTEND;TZID=UTC:20260123T200000
DTSTAMP:20260421T122519
CREATED:20251117T191802Z
LAST-MODIFIED:20251117T191805Z
UID:10000079-1769187600-1769198400@www.heritageridgegolf.com
SUMMARY:After Hours
DESCRIPTION:
URL:https://www.heritageridgegolf.com/event/after-hours-2/2026-01-23/
END:VEVENT
BEGIN:VEVENT
DTSTART;TZID=UTC:20260130T170000
DTEND;TZID=UTC:20260130T200000
DTSTAMP:20260421T122519
CREATED:20251117T191802Z
LAST-MODIFIED:20251117T191805Z
UID:10000080-1769792400-1769803200@www.heritageridgegolf.com
SUMMARY:After Hours
DESCRIPTION:
URL:https://www.heritageridgegolf.com/event/after-hours-2/2026-01-30/
END:VEVENT
END:VCALENDAR