BEGIN:VCALENDAR
VERSION:2.0
PRODID:-//Heritage Ridge Golf Club - Hobe Sound, FL - ECPv6.15.20//NONSGML v1.0//EN
CALSCALE:GREGORIAN
METHOD:PUBLISH
X-ORIGINAL-URL:https://www.heritageridgegolf.com
X-WR-CALDESC:Events for Heritage Ridge Golf Club - Hobe Sound, FL
REFRESH-INTERVAL;VALUE=DURATION:PT1H
X-Robots-Tag:noindex
X-PUBLISHED-TTL:PT1H
BEGIN:VTIMEZONE
TZID:UTC
BEGIN:STANDARD
TZOFFSETFROM:+0000
TZOFFSETTO:+0000
TZNAME:UTC
DTSTART:20260101T000000
END:STANDARD
END:VTIMEZONE
BEGIN:VEVENT
DTSTART;TZID=UTC:20270813T170000
DTEND;TZID=UTC:20270813T200000
DTSTAMP:20260424T082104
CREATED:20251117T191802Z
LAST-MODIFIED:20251117T191805Z
UID:10000160-1818176400-1818187200@www.heritageridgegolf.com
SUMMARY:After Hours
DESCRIPTION:
URL:https://www.heritageridgegolf.com/event/after-hours-2/2027-08-13/
END:VEVENT
BEGIN:VEVENT
DTSTART;TZID=UTC:20270820T170000
DTEND;TZID=UTC:20270820T200000
DTSTAMP:20260424T082104
CREATED:20251117T191802Z
LAST-MODIFIED:20251117T191805Z
UID:10000161-1818781200-1818792000@www.heritageridgegolf.com
SUMMARY:After Hours
DESCRIPTION:
URL:https://www.heritageridgegolf.com/event/after-hours-2/2027-08-20/
END:VEVENT
BEGIN:VEVENT
DTSTART;TZID=UTC:20270827T170000
DTEND;TZID=UTC:20270827T200000
DTSTAMP:20260424T082104
CREATED:20251117T191802Z
LAST-MODIFIED:20251117T191805Z
UID:10000162-1819386000-1819396800@www.heritageridgegolf.com
SUMMARY:After Hours
DESCRIPTION:
URL:https://www.heritageridgegolf.com/event/after-hours-2/2027-08-27/
END:VEVENT
BEGIN:VEVENT
DTSTART;TZID=UTC:20270901T080000
DTEND;TZID=UTC:20270901T170000
DTSTAMP:20260424T082104
CREATED:20251117T184201Z
LAST-MODIFIED:20251117T184203Z
UID:10000028-1819785600-1819818000@www.heritageridgegolf.com
SUMMARY:Music Bingo
DESCRIPTION:
URL:https://www.heritageridgegolf.com/event/music-bingo/2027-09-01/
END:VEVENT
BEGIN:VEVENT
DTSTART;TZID=UTC:20270903T170000
DTEND;TZID=UTC:20270903T200000
DTSTAMP:20260424T082104
CREATED:20251117T191802Z
LAST-MODIFIED:20251117T191805Z
UID:10000163-1819990800-1820001600@www.heritageridgegolf.com
SUMMARY:After Hours
DESCRIPTION:
URL:https://www.heritageridgegolf.com/event/after-hours-2/2027-09-03/
END:VEVENT
BEGIN:VEVENT
DTSTART;TZID=UTC:20270910T170000
DTEND;TZID=UTC:20270910T200000
DTSTAMP:20260424T082104
CREATED:20251117T191802Z
LAST-MODIFIED:20251117T191805Z
UID:10000164-1820595600-1820606400@www.heritageridgegolf.com
SUMMARY:After Hours
DESCRIPTION:
URL:https://www.heritageridgegolf.com/event/after-hours-2/2027-09-10/
END:VEVENT
BEGIN:VEVENT
DTSTART;TZID=UTC:20270917T170000
DTEND;TZID=UTC:20270917T200000
DTSTAMP:20260424T082104
CREATED:20251117T191802Z
LAST-MODIFIED:20251117T191805Z
UID:10000165-1821200400-1821211200@www.heritageridgegolf.com
SUMMARY:After Hours
DESCRIPTION:
URL:https://www.heritageridgegolf.com/event/after-hours-2/2027-09-17/
END:VEVENT
BEGIN:VEVENT
DTSTART;TZID=UTC:20270924T170000
DTEND;TZID=UTC:20270924T200000
DTSTAMP:20260424T082104
CREATED:20251117T191802Z
LAST-MODIFIED:20251117T191805Z
UID:10000166-1821805200-1821816000@www.heritageridgegolf.com
SUMMARY:After Hours
DESCRIPTION:
URL:https://www.heritageridgegolf.com/event/after-hours-2/2027-09-24/
END:VEVENT
BEGIN:VEVENT
DTSTART;TZID=UTC:20271001T170000
DTEND;TZID=UTC:20271001T200000
DTSTAMP:20260424T082104
CREATED:20251117T191802Z
LAST-MODIFIED:20251117T191805Z
UID:10000167-1822410000-1822420800@www.heritageridgegolf.com
SUMMARY:After Hours
DESCRIPTION:
URL:https://www.heritageridgegolf.com/event/after-hours-2/2027-10-01/
END:VEVENT
BEGIN:VEVENT
DTSTART;TZID=UTC:20271006T080000
DTEND;TZID=UTC:20271006T170000
DTSTAMP:20260424T082104
CREATED:20251117T184201Z
LAST-MODIFIED:20251117T184203Z
UID:10000029-1822809600-1822842000@www.heritageridgegolf.com
SUMMARY:Music Bingo
DESCRIPTION:
URL:https://www.heritageridgegolf.com/event/music-bingo/2027-10-06/
END:VEVENT
BEGIN:VEVENT
DTSTART;TZID=UTC:20271008T170000
DTEND;TZID=UTC:20271008T200000
DTSTAMP:20260424T082104
CREATED:20251117T191802Z
LAST-MODIFIED:20251117T191805Z
UID:10000168-1823014800-1823025600@www.heritageridgegolf.com
SUMMARY:After Hours
DESCRIPTION:
URL:https://www.heritageridgegolf.com/event/after-hours-2/2027-10-08/
END:VEVENT
BEGIN:VEVENT
DTSTART;TZID=UTC:20271015T170000
DTEND;TZID=UTC:20271015T200000
DTSTAMP:20260424T082104
CREATED:20251117T191802Z
LAST-MODIFIED:20251117T191805Z
UID:10000169-1823619600-1823630400@www.heritageridgegolf.com
SUMMARY:After Hours
DESCRIPTION:
URL:https://www.heritageridgegolf.com/event/after-hours-2/2027-10-15/
END:VEVENT
BEGIN:VEVENT
DTSTART;TZID=UTC:20271022T170000
DTEND;TZID=UTC:20271022T200000
DTSTAMP:20260424T082104
CREATED:20251117T191802Z
LAST-MODIFIED:20251117T191805Z
UID:10000170-1824224400-1824235200@www.heritageridgegolf.com
SUMMARY:After Hours
DESCRIPTION:
URL:https://www.heritageridgegolf.com/event/after-hours-2/2027-10-22/
END:VEVENT
BEGIN:VEVENT
DTSTART;TZID=UTC:20271029T170000
DTEND;TZID=UTC:20271029T200000
DTSTAMP:20260424T082104
CREATED:20251117T191802Z
LAST-MODIFIED:20251117T191805Z
UID:10000171-1824829200-1824840000@www.heritageridgegolf.com
SUMMARY:After Hours
DESCRIPTION:
URL:https://www.heritageridgegolf.com/event/after-hours-2/2027-10-29/
END:VEVENT
BEGIN:VEVENT
DTSTART;TZID=UTC:20271103T080000
DTEND;TZID=UTC:20271103T170000
DTSTAMP:20260424T082104
CREATED:20251117T184201Z
LAST-MODIFIED:20251117T184203Z
UID:10000030-1825228800-1825261200@www.heritageridgegolf.com
SUMMARY:Music Bingo
DESCRIPTION:
URL:https://www.heritageridgegolf.com/event/music-bingo/2027-11-03/
END:VEVENT
BEGIN:VEVENT
DTSTART;TZID=UTC:20271105T170000
DTEND;TZID=UTC:20271105T200000
DTSTAMP:20260424T082104
CREATED:20251117T191802Z
LAST-MODIFIED:20251117T191805Z
UID:10000172-1825434000-1825444800@www.heritageridgegolf.com
SUMMARY:After Hours
DESCRIPTION:
URL:https://www.heritageridgegolf.com/event/after-hours-2/2027-11-05/
END:VEVENT
BEGIN:VEVENT
DTSTART;TZID=UTC:20271112T170000
DTEND;TZID=UTC:20271112T200000
DTSTAMP:20260424T082104
CREATED:20251117T191802Z
LAST-MODIFIED:20251117T191805Z
UID:10000173-1826038800-1826049600@www.heritageridgegolf.com
SUMMARY:After Hours
DESCRIPTION:
URL:https://www.heritageridgegolf.com/event/after-hours-2/2027-11-12/
END:VEVENT
BEGIN:VEVENT
DTSTART;TZID=UTC:20271119T170000
DTEND;TZID=UTC:20271119T200000
DTSTAMP:20260424T082104
CREATED:20251117T191802Z
LAST-MODIFIED:20251117T191805Z
UID:10000174-1826643600-1826654400@www.heritageridgegolf.com
SUMMARY:After Hours
DESCRIPTION:
URL:https://www.heritageridgegolf.com/event/after-hours-2/2027-11-19/
END:VEVENT
BEGIN:VEVENT
DTSTART;TZID=UTC:20271126T170000
DTEND;TZID=UTC:20271126T200000
DTSTAMP:20260424T082104
CREATED:20251117T191802Z
LAST-MODIFIED:20251117T191805Z
UID:10000175-1827248400-1827259200@www.heritageridgegolf.com
SUMMARY:After Hours
DESCRIPTION:
URL:https://www.heritageridgegolf.com/event/after-hours-2/2027-11-26/
END:VEVENT
BEGIN:VEVENT
DTSTART;TZID=UTC:20271201T080000
DTEND;TZID=UTC:20271201T170000
DTSTAMP:20260424T082104
CREATED:20251117T184201Z
LAST-MODIFIED:20251117T184203Z
UID:10000031-1827648000-1827680400@www.heritageridgegolf.com
SUMMARY:Music Bingo
DESCRIPTION:
URL:https://www.heritageridgegolf.com/event/music-bingo/2027-12-01/
END:VEVENT
BEGIN:VEVENT
DTSTART;TZID=UTC:20271203T170000
DTEND;TZID=UTC:20271203T200000
DTSTAMP:20260424T082104
CREATED:20251117T191802Z
LAST-MODIFIED:20251117T191805Z
UID:10000176-1827853200-1827864000@www.heritageridgegolf.com
SUMMARY:After Hours
DESCRIPTION:
URL:https://www.heritageridgegolf.com/event/after-hours-2/2027-12-03/
END:VEVENT
BEGIN:VEVENT
DTSTART;TZID=UTC:20271210T170000
DTEND;TZID=UTC:20271210T200000
DTSTAMP:20260424T082104
CREATED:20251117T191802Z
LAST-MODIFIED:20251117T191805Z
UID:10000177-1828458000-1828468800@www.heritageridgegolf.com
SUMMARY:After Hours
DESCRIPTION:
URL:https://www.heritageridgegolf.com/event/after-hours-2/2027-12-10/
END:VEVENT
BEGIN:VEVENT
DTSTART;TZID=UTC:20271217T170000
DTEND;TZID=UTC:20271217T200000
DTSTAMP:20260424T082104
CREATED:20251117T191802Z
LAST-MODIFIED:20251117T191805Z
UID:10000178-1829062800-1829073600@www.heritageridgegolf.com
SUMMARY:After Hours
DESCRIPTION:
URL:https://www.heritageridgegolf.com/event/after-hours-2/2027-12-17/
END:VEVENT
BEGIN:VEVENT
DTSTART;TZID=UTC:20271224T170000
DTEND;TZID=UTC:20271224T200000
DTSTAMP:20260424T082104
CREATED:20251117T191802Z
LAST-MODIFIED:20251117T191805Z
UID:10000179-1829667600-1829678400@www.heritageridgegolf.com
SUMMARY:After Hours
DESCRIPTION:
URL:https://www.heritageridgegolf.com/event/after-hours-2/2027-12-24/
END:VEVENT
BEGIN:VEVENT
DTSTART;TZID=UTC:20271231T170000
DTEND;TZID=UTC:20271231T200000
DTSTAMP:20260424T082104
CREATED:20251117T191802Z
LAST-MODIFIED:20251117T191805Z
UID:10000180-1830272400-1830283200@www.heritageridgegolf.com
SUMMARY:After Hours
DESCRIPTION:
URL:https://www.heritageridgegolf.com/event/after-hours-2/2027-12-31/
END:VEVENT
BEGIN:VEVENT
DTSTART;TZID=UTC:20280105T080000
DTEND;TZID=UTC:20280105T170000
DTSTAMP:20260424T082104
CREATED:20251117T184201Z
LAST-MODIFIED:20251117T184203Z
UID:10000032-1830672000-1830704400@www.heritageridgegolf.com
SUMMARY:Music Bingo
DESCRIPTION:
URL:https://www.heritageridgegolf.com/event/music-bingo/2028-01-05/
END:VEVENT
BEGIN:VEVENT
DTSTART;TZID=UTC:20280107T170000
DTEND;TZID=UTC:20280107T200000
DTSTAMP:20260424T082104
CREATED:20251117T191802Z
LAST-MODIFIED:20251117T191805Z
UID:10000181-1830877200-1830888000@www.heritageridgegolf.com
SUMMARY:After Hours
DESCRIPTION:
URL:https://www.heritageridgegolf.com/event/after-hours-2/2028-01-07/
END:VEVENT
BEGIN:VEVENT
DTSTART;TZID=UTC:20280114T170000
DTEND;TZID=UTC:20280114T200000
DTSTAMP:20260424T082104
CREATED:20251117T191802Z
LAST-MODIFIED:20251117T191805Z
UID:10000182-1831482000-1831492800@www.heritageridgegolf.com
SUMMARY:After Hours
DESCRIPTION:
URL:https://www.heritageridgegolf.com/event/after-hours-2/2028-01-14/
END:VEVENT
BEGIN:VEVENT
DTSTART;TZID=UTC:20280121T170000
DTEND;TZID=UTC:20280121T200000
DTSTAMP:20260424T082104
CREATED:20251117T191802Z
LAST-MODIFIED:20251117T191805Z
UID:10000183-1832086800-1832097600@www.heritageridgegolf.com
SUMMARY:After Hours
DESCRIPTION:
URL:https://www.heritageridgegolf.com/event/after-hours-2/2028-01-21/
END:VEVENT
BEGIN:VEVENT
DTSTART;TZID=UTC:20280128T170000
DTEND;TZID=UTC:20280128T200000
DTSTAMP:20260424T082104
CREATED:20251117T191802Z
LAST-MODIFIED:20251117T191805Z
UID:10000184-1832691600-1832702400@www.heritageridgegolf.com
SUMMARY:After Hours
DESCRIPTION:
URL:https://www.heritageridgegolf.com/event/after-hours-2/2028-01-28/
END:VEVENT
END:VCALENDAR