BEGIN:VCALENDAR
VERSION:2.0
PRODID:-//Heritage Ridge Golf Club - Hobe Sound, FL - ECPv6.15.20//NONSGML v1.0//EN
CALSCALE:GREGORIAN
METHOD:PUBLISH
X-WR-CALNAME:Heritage Ridge Golf Club - Hobe Sound, FL
X-ORIGINAL-URL:https://www.heritageridgegolf.com
X-WR-CALDESC:Events for Heritage Ridge Golf Club - Hobe Sound, FL
REFRESH-INTERVAL;VALUE=DURATION:PT1H
X-Robots-Tag:noindex
X-PUBLISHED-TTL:PT1H
BEGIN:VTIMEZONE
TZID:UTC
BEGIN:STANDARD
TZOFFSETFROM:+0000
TZOFFSETTO:+0000
TZNAME:UTC
DTSTART:20260101T000000
END:STANDARD
END:VTIMEZONE
BEGIN:VEVENT
DTSTART;TZID=UTC:20271231T170000
DTEND;TZID=UTC:20271231T200000
DTSTAMP:20260422T125613
CREATED:20251117T191802Z
LAST-MODIFIED:20251117T191805Z
UID:10000180-1830272400-1830283200@www.heritageridgegolf.com
SUMMARY:After Hours
DESCRIPTION:
URL:https://www.heritageridgegolf.com/event/after-hours-2/2027-12-31/
END:VEVENT
BEGIN:VEVENT
DTSTART;TZID=UTC:20280105T080000
DTEND;TZID=UTC:20280105T170000
DTSTAMP:20260422T125613
CREATED:20251117T184201Z
LAST-MODIFIED:20251117T184203Z
UID:10000032-1830672000-1830704400@www.heritageridgegolf.com
SUMMARY:Music Bingo
DESCRIPTION:
URL:https://www.heritageridgegolf.com/event/music-bingo/2028-01-05/
END:VEVENT
BEGIN:VEVENT
DTSTART;TZID=UTC:20280107T170000
DTEND;TZID=UTC:20280107T200000
DTSTAMP:20260422T125613
CREATED:20251117T191802Z
LAST-MODIFIED:20251117T191805Z
UID:10000181-1830877200-1830888000@www.heritageridgegolf.com
SUMMARY:After Hours
DESCRIPTION:
URL:https://www.heritageridgegolf.com/event/after-hours-2/2028-01-07/
END:VEVENT
BEGIN:VEVENT
DTSTART;TZID=UTC:20280114T170000
DTEND;TZID=UTC:20280114T200000
DTSTAMP:20260422T125613
CREATED:20251117T191802Z
LAST-MODIFIED:20251117T191805Z
UID:10000182-1831482000-1831492800@www.heritageridgegolf.com
SUMMARY:After Hours
DESCRIPTION:
URL:https://www.heritageridgegolf.com/event/after-hours-2/2028-01-14/
END:VEVENT
BEGIN:VEVENT
DTSTART;TZID=UTC:20280121T170000
DTEND;TZID=UTC:20280121T200000
DTSTAMP:20260422T125613
CREATED:20251117T191802Z
LAST-MODIFIED:20251117T191805Z
UID:10000183-1832086800-1832097600@www.heritageridgegolf.com
SUMMARY:After Hours
DESCRIPTION:
URL:https://www.heritageridgegolf.com/event/after-hours-2/2028-01-21/
END:VEVENT
BEGIN:VEVENT
DTSTART;TZID=UTC:20280128T170000
DTEND;TZID=UTC:20280128T200000
DTSTAMP:20260422T125613
CREATED:20251117T191802Z
LAST-MODIFIED:20251117T191805Z
UID:10000184-1832691600-1832702400@www.heritageridgegolf.com
SUMMARY:After Hours
DESCRIPTION:
URL:https://www.heritageridgegolf.com/event/after-hours-2/2028-01-28/
END:VEVENT
BEGIN:VEVENT
DTSTART;TZID=UTC:20280202T080000
DTEND;TZID=UTC:20280202T170000
DTSTAMP:20260422T125613
CREATED:20251117T184201Z
LAST-MODIFIED:20251117T184203Z
UID:10000033-1833091200-1833123600@www.heritageridgegolf.com
SUMMARY:Music Bingo
DESCRIPTION:
URL:https://www.heritageridgegolf.com/event/music-bingo/2028-02-02/
END:VEVENT
BEGIN:VEVENT
DTSTART;TZID=UTC:20280204T170000
DTEND;TZID=UTC:20280204T200000
DTSTAMP:20260422T125613
CREATED:20251117T191802Z
LAST-MODIFIED:20251117T191805Z
UID:10000185-1833296400-1833307200@www.heritageridgegolf.com
SUMMARY:After Hours
DESCRIPTION:
URL:https://www.heritageridgegolf.com/event/after-hours-2/2028-02-04/
END:VEVENT
BEGIN:VEVENT
DTSTART;TZID=UTC:20280211T170000
DTEND;TZID=UTC:20280211T200000
DTSTAMP:20260422T125613
CREATED:20251117T191802Z
LAST-MODIFIED:20251117T191805Z
UID:10000186-1833901200-1833912000@www.heritageridgegolf.com
SUMMARY:After Hours
DESCRIPTION:
URL:https://www.heritageridgegolf.com/event/after-hours-2/2028-02-11/
END:VEVENT
BEGIN:VEVENT
DTSTART;TZID=UTC:20280218T170000
DTEND;TZID=UTC:20280218T200000
DTSTAMP:20260422T125613
CREATED:20251117T191802Z
LAST-MODIFIED:20251117T191805Z
UID:10000187-1834506000-1834516800@www.heritageridgegolf.com
SUMMARY:After Hours
DESCRIPTION:
URL:https://www.heritageridgegolf.com/event/after-hours-2/2028-02-18/
END:VEVENT
BEGIN:VEVENT
DTSTART;TZID=UTC:20280225T170000
DTEND;TZID=UTC:20280225T200000
DTSTAMP:20260422T125613
CREATED:20251117T191802Z
LAST-MODIFIED:20251117T191805Z
UID:10000188-1835110800-1835121600@www.heritageridgegolf.com
SUMMARY:After Hours
DESCRIPTION:
URL:https://www.heritageridgegolf.com/event/after-hours-2/2028-02-25/
END:VEVENT
BEGIN:VEVENT
DTSTART;TZID=UTC:20280301T080000
DTEND;TZID=UTC:20280301T170000
DTSTAMP:20260422T125613
CREATED:20251117T184201Z
LAST-MODIFIED:20251117T184203Z
UID:10000034-1835510400-1835542800@www.heritageridgegolf.com
SUMMARY:Music Bingo
DESCRIPTION:
URL:https://www.heritageridgegolf.com/event/music-bingo/2028-03-01/
END:VEVENT
BEGIN:VEVENT
DTSTART;TZID=UTC:20280303T170000
DTEND;TZID=UTC:20280303T200000
DTSTAMP:20260422T125613
CREATED:20251117T191802Z
LAST-MODIFIED:20251117T191805Z
UID:10000189-1835715600-1835726400@www.heritageridgegolf.com
SUMMARY:After Hours
DESCRIPTION:
URL:https://www.heritageridgegolf.com/event/after-hours-2/2028-03-03/
END:VEVENT
BEGIN:VEVENT
DTSTART;TZID=UTC:20280310T170000
DTEND;TZID=UTC:20280310T200000
DTSTAMP:20260422T125613
CREATED:20251117T191802Z
LAST-MODIFIED:20251117T191805Z
UID:10000190-1836320400-1836331200@www.heritageridgegolf.com
SUMMARY:After Hours
DESCRIPTION:
URL:https://www.heritageridgegolf.com/event/after-hours-2/2028-03-10/
END:VEVENT
BEGIN:VEVENT
DTSTART;TZID=UTC:20280317T170000
DTEND;TZID=UTC:20280317T200000
DTSTAMP:20260422T125613
CREATED:20251117T191802Z
LAST-MODIFIED:20251117T191805Z
UID:10000191-1836925200-1836936000@www.heritageridgegolf.com
SUMMARY:After Hours
DESCRIPTION:
URL:https://www.heritageridgegolf.com/event/after-hours-2/2028-03-17/
END:VEVENT
BEGIN:VEVENT
DTSTART;TZID=UTC:20280324T170000
DTEND;TZID=UTC:20280324T200000
DTSTAMP:20260422T125613
CREATED:20251117T191802Z
LAST-MODIFIED:20251117T191805Z
UID:10000192-1837530000-1837540800@www.heritageridgegolf.com
SUMMARY:After Hours
DESCRIPTION:
URL:https://www.heritageridgegolf.com/event/after-hours-2/2028-03-24/
END:VEVENT
BEGIN:VEVENT
DTSTART;TZID=UTC:20280331T170000
DTEND;TZID=UTC:20280331T200000
DTSTAMP:20260422T125613
CREATED:20251117T191802Z
LAST-MODIFIED:20251117T191805Z
UID:10000193-1838134800-1838145600@www.heritageridgegolf.com
SUMMARY:After Hours
DESCRIPTION:
URL:https://www.heritageridgegolf.com/event/after-hours-2/2028-03-31/
END:VEVENT
BEGIN:VEVENT
DTSTART;TZID=UTC:20280405T080000
DTEND;TZID=UTC:20280405T170000
DTSTAMP:20260422T125613
CREATED:20251117T184201Z
LAST-MODIFIED:20251117T184203Z
UID:10000035-1838534400-1838566800@www.heritageridgegolf.com
SUMMARY:Music Bingo
DESCRIPTION:
URL:https://www.heritageridgegolf.com/event/music-bingo/2028-04-05/
END:VEVENT
BEGIN:VEVENT
DTSTART;TZID=UTC:20280407T170000
DTEND;TZID=UTC:20280407T200000
DTSTAMP:20260422T125613
CREATED:20251117T191802Z
LAST-MODIFIED:20251117T191805Z
UID:10000194-1838739600-1838750400@www.heritageridgegolf.com
SUMMARY:After Hours
DESCRIPTION:
URL:https://www.heritageridgegolf.com/event/after-hours-2/2028-04-07/
END:VEVENT
BEGIN:VEVENT
DTSTART;TZID=UTC:20280414T170000
DTEND;TZID=UTC:20280414T200000
DTSTAMP:20260422T125613
CREATED:20251117T191802Z
LAST-MODIFIED:20251117T191805Z
UID:10000195-1839344400-1839355200@www.heritageridgegolf.com
SUMMARY:After Hours
DESCRIPTION:
URL:https://www.heritageridgegolf.com/event/after-hours-2/2028-04-14/
END:VEVENT
BEGIN:VEVENT
DTSTART;TZID=UTC:20280421T170000
DTEND;TZID=UTC:20280421T200000
DTSTAMP:20260422T125613
CREATED:20251117T191802Z
LAST-MODIFIED:20251117T191805Z
UID:10000196-1839949200-1839960000@www.heritageridgegolf.com
SUMMARY:After Hours
DESCRIPTION:
URL:https://www.heritageridgegolf.com/event/after-hours-2/2028-04-21/
END:VEVENT
BEGIN:VEVENT
DTSTART;TZID=UTC:20280428T170000
DTEND;TZID=UTC:20280428T200000
DTSTAMP:20260422T125613
CREATED:20251117T191802Z
LAST-MODIFIED:20251117T191805Z
UID:10000197-1840554000-1840564800@www.heritageridgegolf.com
SUMMARY:After Hours
DESCRIPTION:
URL:https://www.heritageridgegolf.com/event/after-hours-2/2028-04-28/
END:VEVENT
BEGIN:VEVENT
DTSTART;TZID=UTC:20280503T080000
DTEND;TZID=UTC:20280503T170000
DTSTAMP:20260422T125613
CREATED:20251117T184201Z
LAST-MODIFIED:20251117T184203Z
UID:10000036-1840953600-1840986000@www.heritageridgegolf.com
SUMMARY:Music Bingo
DESCRIPTION:
URL:https://www.heritageridgegolf.com/event/music-bingo/2028-05-03/
END:VEVENT
BEGIN:VEVENT
DTSTART;TZID=UTC:20280505T170000
DTEND;TZID=UTC:20280505T200000
DTSTAMP:20260422T125613
CREATED:20251117T191802Z
LAST-MODIFIED:20251117T191805Z
UID:10000198-1841158800-1841169600@www.heritageridgegolf.com
SUMMARY:After Hours
DESCRIPTION:
URL:https://www.heritageridgegolf.com/event/after-hours-2/2028-05-05/
END:VEVENT
BEGIN:VEVENT
DTSTART;TZID=UTC:20280512T170000
DTEND;TZID=UTC:20280512T200000
DTSTAMP:20260422T125613
CREATED:20251117T191802Z
LAST-MODIFIED:20251117T191805Z
UID:10000199-1841763600-1841774400@www.heritageridgegolf.com
SUMMARY:After Hours
DESCRIPTION:
URL:https://www.heritageridgegolf.com/event/after-hours-2/2028-05-12/
END:VEVENT
BEGIN:VEVENT
DTSTART;TZID=UTC:20280519T170000
DTEND;TZID=UTC:20280519T200000
DTSTAMP:20260422T125613
CREATED:20251117T191802Z
LAST-MODIFIED:20251117T191805Z
UID:10000200-1842368400-1842379200@www.heritageridgegolf.com
SUMMARY:After Hours
DESCRIPTION:
URL:https://www.heritageridgegolf.com/event/after-hours-2/2028-05-19/
END:VEVENT
BEGIN:VEVENT
DTSTART;TZID=UTC:20280526T170000
DTEND;TZID=UTC:20280526T200000
DTSTAMP:20260422T125613
CREATED:20251117T191802Z
LAST-MODIFIED:20251117T191805Z
UID:10000201-1842973200-1842984000@www.heritageridgegolf.com
SUMMARY:After Hours
DESCRIPTION:
URL:https://www.heritageridgegolf.com/event/after-hours-2/2028-05-26/
END:VEVENT
BEGIN:VEVENT
DTSTART;TZID=UTC:20280602T170000
DTEND;TZID=UTC:20280602T200000
DTSTAMP:20260422T125613
CREATED:20251117T191802Z
LAST-MODIFIED:20251117T191805Z
UID:10000202-1843578000-1843588800@www.heritageridgegolf.com
SUMMARY:After Hours
DESCRIPTION:
URL:https://www.heritageridgegolf.com/event/after-hours-2/2028-06-02/
END:VEVENT
BEGIN:VEVENT
DTSTART;TZID=UTC:20280607T080000
DTEND;TZID=UTC:20280607T170000
DTSTAMP:20260422T125613
CREATED:20251117T184201Z
LAST-MODIFIED:20251117T184203Z
UID:10000037-1843977600-1844010000@www.heritageridgegolf.com
SUMMARY:Music Bingo
DESCRIPTION:
URL:https://www.heritageridgegolf.com/event/music-bingo/2028-06-07/
END:VEVENT
BEGIN:VEVENT
DTSTART;TZID=UTC:20280609T170000
DTEND;TZID=UTC:20280609T200000
DTSTAMP:20260422T125613
CREATED:20251117T191802Z
LAST-MODIFIED:20251117T191805Z
UID:10000203-1844182800-1844193600@www.heritageridgegolf.com
SUMMARY:After Hours
DESCRIPTION:
URL:https://www.heritageridgegolf.com/event/after-hours-2/2028-06-09/
END:VEVENT
END:VCALENDAR