BEGIN:VCALENDAR
VERSION:2.0
PRODID:-//Heritage Ridge Golf Club - Hobe Sound, FL - ECPv6.15.20//NONSGML v1.0//EN
CALSCALE:GREGORIAN
METHOD:PUBLISH
X-WR-CALNAME:Heritage Ridge Golf Club - Hobe Sound, FL
X-ORIGINAL-URL:https://www.heritageridgegolf.com
X-WR-CALDESC:Events for Heritage Ridge Golf Club - Hobe Sound, FL
REFRESH-INTERVAL;VALUE=DURATION:PT1H
X-Robots-Tag:noindex
X-PUBLISHED-TTL:PT1H
BEGIN:VTIMEZONE
TZID:UTC
BEGIN:STANDARD
TZOFFSETFROM:+0000
TZOFFSETTO:+0000
TZNAME:UTC
DTSTART:20240101T000000
END:STANDARD
END:VTIMEZONE
BEGIN:VEVENT
DTSTART;TZID=UTC:20251117T080000
DTEND;TZID=UTC:20251206T170000
DTSTAMP:20260421T153558
CREATED:20251117T184251Z
LAST-MODIFIED:20251117T184609Z
UID:10000067-1763366400-1765040400@www.heritageridgegolf.com
SUMMARY:Toys for tots takeover tournament
DESCRIPTION:
URL:https://www.heritageridgegolf.com/event/toys-for-tots/
ATTACH;FMTTYPE=image/jpeg:https://www.heritageridgegolf.com/wp-content/uploads/2025/11/T4T.jpg
END:VEVENT
BEGIN:VEVENT
DTSTART;TZID=UTC:20251203T080000
DTEND;TZID=UTC:20251203T170000
DTSTAMP:20260421T153558
CREATED:20251117T184201Z
LAST-MODIFIED:20251117T184203Z
UID:10000007-1764748800-1764781200@www.heritageridgegolf.com
SUMMARY:Music Bingo
DESCRIPTION:
URL:https://www.heritageridgegolf.com/event/music-bingo/2025-12-03/
END:VEVENT
BEGIN:VEVENT
DTSTART;TZID=UTC:20251205T170000
DTEND;TZID=UTC:20251205T200000
DTSTAMP:20260421T153558
CREATED:20251117T191802Z
LAST-MODIFIED:20251117T191805Z
UID:10000073-1764954000-1764964800@www.heritageridgegolf.com
SUMMARY:After Hours
DESCRIPTION:
URL:https://www.heritageridgegolf.com/event/after-hours-2/2025-12-05/
END:VEVENT
BEGIN:VEVENT
DTSTART;TZID=UTC:20251206T090000
DTEND;TZID=UTC:20251206T090000
DTSTAMP:20260421T153558
CREATED:20251117T192917Z
LAST-MODIFIED:20251117T193219Z
UID:10000334-1765011600-1765011600@www.heritageridgegolf.com
SUMMARY:Toys for Tots Grinch Takeover Tournament 
DESCRIPTION:
URL:https://www.heritageridgegolf.com/event/toys-for-tots-grinch-takeover-tournament/
ATTACH;FMTTYPE=image/jpeg:https://www.heritageridgegolf.com/wp-content/uploads/2025/11/T4T.jpg
END:VEVENT
BEGIN:VEVENT
DTSTART;TZID=UTC:20251212T170000
DTEND;TZID=UTC:20251212T200000
DTSTAMP:20260421T153558
CREATED:20251117T191802Z
LAST-MODIFIED:20251117T191805Z
UID:10000074-1765558800-1765569600@www.heritageridgegolf.com
SUMMARY:After Hours
DESCRIPTION:
URL:https://www.heritageridgegolf.com/event/after-hours-2/2025-12-12/
END:VEVENT
BEGIN:VEVENT
DTSTART;TZID=UTC:20251219T170000
DTEND;TZID=UTC:20251219T200000
DTSTAMP:20260421T153558
CREATED:20251117T191802Z
LAST-MODIFIED:20251117T191805Z
UID:10000075-1766163600-1766174400@www.heritageridgegolf.com
SUMMARY:After Hours
DESCRIPTION:
URL:https://www.heritageridgegolf.com/event/after-hours-2/2025-12-19/
END:VEVENT
BEGIN:VEVENT
DTSTART;TZID=UTC:20251225T000000
DTEND;TZID=UTC:20251225T235959
DTSTAMP:20260421T153558
CREATED:20231121T222203Z
LAST-MODIFIED:20250630T180736Z
UID:10000005-1766620800-1766707199@www.heritageridgegolf.com
SUMMARY:Christmas
DESCRIPTION:
URL:https://www.heritageridgegolf.com/event/christmas/
CATEGORIES:Holidays
END:VEVENT
BEGIN:VEVENT
DTSTART;TZID=UTC:20260101T000000
DTEND;TZID=UTC:20260101T235959
DTSTAMP:20260421T153558
CREATED:20231005T175327Z
LAST-MODIFIED:20250630T180705Z
UID:10000003-1767225600-1767311999@www.heritageridgegolf.com
SUMMARY:New Year's Eve
DESCRIPTION:
URL:https://www.heritageridgegolf.com/event/new-years-eve/
CATEGORIES:Holidays
END:VEVENT
BEGIN:VEVENT
DTSTART;TZID=UTC:20260102T170000
DTEND;TZID=UTC:20260102T200000
DTSTAMP:20260421T153558
CREATED:20251117T191802Z
LAST-MODIFIED:20251117T191805Z
UID:10000076-1767373200-1767384000@www.heritageridgegolf.com
SUMMARY:After Hours
DESCRIPTION:
URL:https://www.heritageridgegolf.com/event/after-hours-2/2026-01-02/
END:VEVENT
BEGIN:VEVENT
DTSTART;TZID=UTC:20260107T080000
DTEND;TZID=UTC:20260107T170000
DTSTAMP:20260421T153558
CREATED:20251117T184201Z
LAST-MODIFIED:20251117T184203Z
UID:10000008-1767772800-1767805200@www.heritageridgegolf.com
SUMMARY:Music Bingo
DESCRIPTION:
URL:https://www.heritageridgegolf.com/event/music-bingo/2026-01-07/
END:VEVENT
BEGIN:VEVENT
DTSTART;TZID=UTC:20260109T170000
DTEND;TZID=UTC:20260109T200000
DTSTAMP:20260421T153558
CREATED:20251117T191802Z
LAST-MODIFIED:20251117T191805Z
UID:10000077-1767978000-1767988800@www.heritageridgegolf.com
SUMMARY:After Hours
DESCRIPTION:
URL:https://www.heritageridgegolf.com/event/after-hours-2/2026-01-09/
END:VEVENT
BEGIN:VEVENT
DTSTART;TZID=UTC:20260116T170000
DTEND;TZID=UTC:20260116T200000
DTSTAMP:20260421T153558
CREATED:20251117T191802Z
LAST-MODIFIED:20251117T191805Z
UID:10000078-1768582800-1768593600@www.heritageridgegolf.com
SUMMARY:After Hours
DESCRIPTION:
URL:https://www.heritageridgegolf.com/event/after-hours-2/2026-01-16/
END:VEVENT
BEGIN:VEVENT
DTSTART;TZID=UTC:20260123T170000
DTEND;TZID=UTC:20260123T200000
DTSTAMP:20260421T153558
CREATED:20251117T191802Z
LAST-MODIFIED:20251117T191805Z
UID:10000079-1769187600-1769198400@www.heritageridgegolf.com
SUMMARY:After Hours
DESCRIPTION:
URL:https://www.heritageridgegolf.com/event/after-hours-2/2026-01-23/
END:VEVENT
BEGIN:VEVENT
DTSTART;TZID=UTC:20260130T170000
DTEND;TZID=UTC:20260130T200000
DTSTAMP:20260421T153558
CREATED:20251117T191802Z
LAST-MODIFIED:20251117T191805Z
UID:10000080-1769792400-1769803200@www.heritageridgegolf.com
SUMMARY:After Hours
DESCRIPTION:
URL:https://www.heritageridgegolf.com/event/after-hours-2/2026-01-30/
END:VEVENT
BEGIN:VEVENT
DTSTART;TZID=UTC:20260204T080000
DTEND;TZID=UTC:20260204T170000
DTSTAMP:20260421T153558
CREATED:20251117T184201Z
LAST-MODIFIED:20251117T184203Z
UID:10000009-1770192000-1770224400@www.heritageridgegolf.com
SUMMARY:Music Bingo
DESCRIPTION:
URL:https://www.heritageridgegolf.com/event/music-bingo/2026-02-04/
END:VEVENT
BEGIN:VEVENT
DTSTART;TZID=UTC:20260204T170000
DTEND;TZID=UTC:20260204T200000
DTSTAMP:20260421T153558
CREATED:20251117T192714Z
LAST-MODIFIED:20251117T192716Z
UID:10000331-1770224400-1770235200@www.heritageridgegolf.com
SUMMARY:Music bingo
DESCRIPTION:
URL:https://www.heritageridgegolf.com/event/music-bingo-2/2026-02-04/
END:VEVENT
BEGIN:VEVENT
DTSTART;TZID=UTC:20260206T170000
DTEND;TZID=UTC:20260206T200000
DTSTAMP:20260421T153558
CREATED:20251117T191802Z
LAST-MODIFIED:20251117T191805Z
UID:10000081-1770397200-1770408000@www.heritageridgegolf.com
SUMMARY:After Hours
DESCRIPTION:
URL:https://www.heritageridgegolf.com/event/after-hours-2/2026-02-06/
END:VEVENT
BEGIN:VEVENT
DTSTART;TZID=UTC:20260213T170000
DTEND;TZID=UTC:20260213T200000
DTSTAMP:20260421T153558
CREATED:20251117T191802Z
LAST-MODIFIED:20251117T191805Z
UID:10000082-1771002000-1771012800@www.heritageridgegolf.com
SUMMARY:After Hours
DESCRIPTION:
URL:https://www.heritageridgegolf.com/event/after-hours-2/2026-02-13/
END:VEVENT
BEGIN:VEVENT
DTSTART;TZID=UTC:20260220T170000
DTEND;TZID=UTC:20260220T200000
DTSTAMP:20260421T153558
CREATED:20251117T191802Z
LAST-MODIFIED:20251117T191805Z
UID:10000083-1771606800-1771617600@www.heritageridgegolf.com
SUMMARY:After Hours
DESCRIPTION:
URL:https://www.heritageridgegolf.com/event/after-hours-2/2026-02-20/
END:VEVENT
BEGIN:VEVENT
DTSTART;TZID=UTC:20260227T170000
DTEND;TZID=UTC:20260227T200000
DTSTAMP:20260421T153558
CREATED:20251117T191802Z
LAST-MODIFIED:20251117T191805Z
UID:10000084-1772211600-1772222400@www.heritageridgegolf.com
SUMMARY:After Hours
DESCRIPTION:
URL:https://www.heritageridgegolf.com/event/after-hours-2/2026-02-27/
END:VEVENT
BEGIN:VEVENT
DTSTART;TZID=UTC:20260304T080000
DTEND;TZID=UTC:20260304T170000
DTSTAMP:20260421T153558
CREATED:20251117T184201Z
LAST-MODIFIED:20251117T184203Z
UID:10000010-1772611200-1772643600@www.heritageridgegolf.com
SUMMARY:Music Bingo
DESCRIPTION:
URL:https://www.heritageridgegolf.com/event/music-bingo/2026-03-04/
END:VEVENT
BEGIN:VEVENT
DTSTART;TZID=UTC:20260304T170000
DTEND;TZID=UTC:20260304T200000
DTSTAMP:20260421T153558
CREATED:20251117T192714Z
LAST-MODIFIED:20251117T192716Z
UID:10000332-1772643600-1772654400@www.heritageridgegolf.com
SUMMARY:Music bingo
DESCRIPTION:
URL:https://www.heritageridgegolf.com/event/music-bingo-2/2026-03-04/
END:VEVENT
BEGIN:VEVENT
DTSTART;TZID=UTC:20260306T170000
DTEND;TZID=UTC:20260306T200000
DTSTAMP:20260421T153558
CREATED:20251117T191802Z
LAST-MODIFIED:20251117T191805Z
UID:10000085-1772816400-1772827200@www.heritageridgegolf.com
SUMMARY:After Hours
DESCRIPTION:
URL:https://www.heritageridgegolf.com/event/after-hours-2/2026-03-06/
END:VEVENT
BEGIN:VEVENT
DTSTART;TZID=UTC:20260313T170000
DTEND;TZID=UTC:20260313T200000
DTSTAMP:20260421T153558
CREATED:20251117T191802Z
LAST-MODIFIED:20251117T191805Z
UID:10000086-1773421200-1773432000@www.heritageridgegolf.com
SUMMARY:After Hours
DESCRIPTION:
URL:https://www.heritageridgegolf.com/event/after-hours-2/2026-03-13/
END:VEVENT
BEGIN:VEVENT
DTSTART;TZID=UTC:20260317T000000
DTEND;TZID=UTC:20260317T235959
DTSTAMP:20260421T153558
CREATED:20231121T222235Z
LAST-MODIFIED:20250630T180621Z
UID:10000006-1773705600-1773791999@www.heritageridgegolf.com
SUMMARY:Saint Patrick's Day
DESCRIPTION:
URL:https://www.heritageridgegolf.com/event/saint-patricks-day/
CATEGORIES:Holidays
END:VEVENT
BEGIN:VEVENT
DTSTART;TZID=UTC:20260320T170000
DTEND;TZID=UTC:20260320T200000
DTSTAMP:20260421T153558
CREATED:20251117T191802Z
LAST-MODIFIED:20251117T191805Z
UID:10000087-1774026000-1774036800@www.heritageridgegolf.com
SUMMARY:After Hours
DESCRIPTION:
URL:https://www.heritageridgegolf.com/event/after-hours-2/2026-03-20/
END:VEVENT
BEGIN:VEVENT
DTSTART;TZID=UTC:20260327T170000
DTEND;TZID=UTC:20260327T200000
DTSTAMP:20260421T153558
CREATED:20251117T191802Z
LAST-MODIFIED:20251117T191805Z
UID:10000088-1774630800-1774641600@www.heritageridgegolf.com
SUMMARY:After Hours
DESCRIPTION:
URL:https://www.heritageridgegolf.com/event/after-hours-2/2026-03-27/
END:VEVENT
BEGIN:VEVENT
DTSTART;TZID=UTC:20260328T000000
DTEND;TZID=UTC:20260328T235959
DTSTAMP:20260421T153558
CREATED:20251117T184452Z
LAST-MODIFIED:20251117T193330Z
UID:10000068-1774656000-1774742399@www.heritageridgegolf.com
SUMMARY:Play Fore a Cure Tournament
DESCRIPTION:
URL:https://www.heritageridgegolf.com/event/paly-fore-a-cure-tournament/
END:VEVENT
BEGIN:VEVENT
DTSTART;TZID=UTC:20260401T080000
DTEND;TZID=UTC:20260401T170000
DTSTAMP:20260421T153558
CREATED:20251117T184201Z
LAST-MODIFIED:20251117T184203Z
UID:10000011-1775030400-1775062800@www.heritageridgegolf.com
SUMMARY:Music Bingo
DESCRIPTION:
URL:https://www.heritageridgegolf.com/event/music-bingo/2026-04-01/
END:VEVENT
BEGIN:VEVENT
DTSTART;TZID=UTC:20260401T170000
DTEND;TZID=UTC:20260401T200000
DTSTAMP:20260421T153558
CREATED:20251117T192714Z
LAST-MODIFIED:20251117T192716Z
UID:10000333-1775062800-1775073600@www.heritageridgegolf.com
SUMMARY:Music bingo
DESCRIPTION:
URL:https://www.heritageridgegolf.com/event/music-bingo-2/2026-04-01/
END:VEVENT
END:VCALENDAR