BEGIN:VCALENDAR
VERSION:2.0
PRODID:-//Heritage Ridge Golf Club - Hobe Sound, FL - ECPv6.15.20//NONSGML v1.0//EN
CALSCALE:GREGORIAN
METHOD:PUBLISH
X-WR-CALNAME:Heritage Ridge Golf Club - Hobe Sound, FL
X-ORIGINAL-URL:https://www.heritageridgegolf.com
X-WR-CALDESC:Events for Heritage Ridge Golf Club - Hobe Sound, FL
REFRESH-INTERVAL;VALUE=DURATION:PT1H
X-Robots-Tag:noindex
X-PUBLISHED-TTL:PT1H
BEGIN:VTIMEZONE
TZID:UTC
BEGIN:STANDARD
TZOFFSETFROM:+0000
TZOFFSETTO:+0000
TZNAME:UTC
DTSTART:20240101T000000
END:STANDARD
END:VTIMEZONE
BEGIN:VEVENT
DTSTART;TZID=UTC:20251117T080000
DTEND;TZID=UTC:20251206T170000
DTSTAMP:20260421T152619
CREATED:20251117T184251Z
LAST-MODIFIED:20251117T184609Z
UID:10000067-1763366400-1765040400@www.heritageridgegolf.com
SUMMARY:Toys for tots takeover tournament
DESCRIPTION:
URL:https://www.heritageridgegolf.com/event/toys-for-tots/
ATTACH;FMTTYPE=image/jpeg:https://www.heritageridgegolf.com/wp-content/uploads/2025/11/T4T.jpg
END:VEVENT
BEGIN:VEVENT
DTSTART;TZID=UTC:20251205T170000
DTEND;TZID=UTC:20251205T200000
DTSTAMP:20260421T152619
CREATED:20251117T191802Z
LAST-MODIFIED:20251117T191805Z
UID:10000073-1764954000-1764964800@www.heritageridgegolf.com
SUMMARY:After Hours
DESCRIPTION:
URL:https://www.heritageridgegolf.com/event/after-hours-2/2025-12-05/
END:VEVENT
END:VCALENDAR